BEGIN:VCALENDAR
VERSION:2.0
PRODID:-//Vespa Club Rüsselsheim - ECPv6.15.20//NONSGML v1.0//EN
CALSCALE:GREGORIAN
METHOD:PUBLISH
X-ORIGINAL-URL:https://vespa-club-ruesselsheim.de
X-WR-CALDESC:Veranstaltungen für Vespa Club Rüsselsheim
REFRESH-INTERVAL;VALUE=DURATION:PT1H
X-Robots-Tag:noindex
X-PUBLISHED-TTL:PT1H
BEGIN:VTIMEZONE
TZID:Europe/Berlin
BEGIN:DAYLIGHT
TZOFFSETFROM:+0100
TZOFFSETTO:+0200
TZNAME:CEST
DTSTART:20250330T010000
END:DAYLIGHT
BEGIN:STANDARD
TZOFFSETFROM:+0200
TZOFFSETTO:+0100
TZNAME:CET
DTSTART:20251026T010000
END:STANDARD
BEGIN:DAYLIGHT
TZOFFSETFROM:+0100
TZOFFSETTO:+0200
TZNAME:CEST
DTSTART:20260329T010000
END:DAYLIGHT
BEGIN:STANDARD
TZOFFSETFROM:+0200
TZOFFSETTO:+0100
TZNAME:CET
DTSTART:20261025T010000
END:STANDARD
BEGIN:DAYLIGHT
TZOFFSETFROM:+0100
TZOFFSETTO:+0200
TZNAME:CEST
DTSTART:20270328T010000
END:DAYLIGHT
BEGIN:STANDARD
TZOFFSETFROM:+0200
TZOFFSETTO:+0100
TZNAME:CET
DTSTART:20271031T010000
END:STANDARD
END:VTIMEZONE
BEGIN:VEVENT
DTSTART;TZID=Europe/Berlin:20260512T183000
DTEND;TZID=Europe/Berlin:20260512T203000
DTSTAMP:20260421T161355
CREATED:20260410T101910Z
LAST-MODIFIED:20260410T101910Z
UID:1218-1778610600-1778617800@vespa-club-ruesselsheim.de
SUMMARY:Jahreshauptversammlung des VCR am 12. Mai 2026
DESCRIPTION:Diese Veranstaltung ist ausschließlich den Mitglieder des Vespa Clubs Rüsselsheim vorbehalten. \nUnsere Mitgliedern erhalten zu dieser Veranstaltung eine termingerechte Einladung per Mail bzw Post
URL:https://vespa-club-ruesselsheim.de/event/jahreshauptversammlung-des-vcr-am-12-mai-2026/
LOCATION:An der Wied\, An der Wied\, Rüsselsheim Haßloch\, Hessen\, 65428\, Deutschland
CATEGORIES:Interne Veranstaltungen
END:VEVENT
END:VCALENDAR