BEGIN:VCALENDAR
VERSION:2.0
PRODID:-//Vespa Club Rüsselsheim - ECPv6.15.20//NONSGML v1.0//EN
CALSCALE:GREGORIAN
METHOD:PUBLISH
X-ORIGINAL-URL:https://vespa-club-ruesselsheim.de
X-WR-CALDESC:Veranstaltungen für Vespa Club Rüsselsheim
REFRESH-INTERVAL;VALUE=DURATION:PT1H
X-Robots-Tag:noindex
X-PUBLISHED-TTL:PT1H
BEGIN:VTIMEZONE
TZID:Europe/Berlin
BEGIN:DAYLIGHT
TZOFFSETFROM:+0100
TZOFFSETTO:+0200
TZNAME:CEST
DTSTART:20250330T010000
END:DAYLIGHT
BEGIN:STANDARD
TZOFFSETFROM:+0200
TZOFFSETTO:+0100
TZNAME:CET
DTSTART:20251026T010000
END:STANDARD
BEGIN:DAYLIGHT
TZOFFSETFROM:+0100
TZOFFSETTO:+0200
TZNAME:CEST
DTSTART:20260329T010000
END:DAYLIGHT
BEGIN:STANDARD
TZOFFSETFROM:+0200
TZOFFSETTO:+0100
TZNAME:CET
DTSTART:20261025T010000
END:STANDARD
BEGIN:DAYLIGHT
TZOFFSETFROM:+0100
TZOFFSETTO:+0200
TZNAME:CEST
DTSTART:20270328T010000
END:DAYLIGHT
BEGIN:STANDARD
TZOFFSETFROM:+0200
TZOFFSETTO:+0100
TZNAME:CET
DTSTART:20271031T010000
END:STANDARD
END:VTIMEZONE
BEGIN:VEVENT
DTSTART;VALUE=DATE:20260821
DTEND;VALUE=DATE:20260824
DTSTAMP:20260421T203359
CREATED:20260417T103413Z
LAST-MODIFIED:20260417T103413Z
UID:1268-1787270400-1787529599@vespa-club-ruesselsheim.de
SUMMARY:21.-23. August 2026  / 13. German Vespa Rally - Bremen
DESCRIPTION:Die 13. German Vespa Rally findet vom 21. bis 23. August in Bremen statt.\nUnter 13. German Vespa Rally | Vespa Club von Deutschland \nfindet ihr das Programm und die Ausschreibung. Erstmals gibt es in diesem Jahr\nauch die Möglichkeit\, nur als “Tourist“ an der Rally teilzunehmen. Der Sportliche Teil fällt dabei weg.
URL:https://vespa-club-ruesselsheim.de/event/21-23-august-2026-13-german-vespa-rally-bremen/
LOCATION:SVB-Skippertreff\, Strandweg 100\, 28201 Bremen\, Germany
CATEGORIES:Externe Veranstaltungen
END:VEVENT
END:VCALENDAR