BEGIN:VCALENDAR
VERSION:2.0
PRODID:-//Vespa Club Rüsselsheim - ECPv6.15.20//NONSGML v1.0//EN
CALSCALE:GREGORIAN
METHOD:PUBLISH
X-ORIGINAL-URL:https://vespa-club-ruesselsheim.de
X-WR-CALDESC:Veranstaltungen für Vespa Club Rüsselsheim
REFRESH-INTERVAL;VALUE=DURATION:PT1H
X-Robots-Tag:noindex
X-PUBLISHED-TTL:PT1H
BEGIN:VTIMEZONE
TZID:Europe/Berlin
BEGIN:DAYLIGHT
TZOFFSETFROM:+0100
TZOFFSETTO:+0200
TZNAME:CEST
DTSTART:20250330T010000
END:DAYLIGHT
BEGIN:STANDARD
TZOFFSETFROM:+0200
TZOFFSETTO:+0100
TZNAME:CET
DTSTART:20251026T010000
END:STANDARD
BEGIN:DAYLIGHT
TZOFFSETFROM:+0100
TZOFFSETTO:+0200
TZNAME:CEST
DTSTART:20260329T010000
END:DAYLIGHT
BEGIN:STANDARD
TZOFFSETFROM:+0200
TZOFFSETTO:+0100
TZNAME:CET
DTSTART:20261025T010000
END:STANDARD
BEGIN:DAYLIGHT
TZOFFSETFROM:+0100
TZOFFSETTO:+0200
TZNAME:CEST
DTSTART:20270328T010000
END:DAYLIGHT
BEGIN:STANDARD
TZOFFSETFROM:+0200
TZOFFSETTO:+0100
TZNAME:CET
DTSTART:20271031T010000
END:STANDARD
END:VTIMEZONE
BEGIN:VEVENT
DTSTART;TZID=Europe/Berlin:20260719T100000
DTEND;TZID=Europe/Berlin:20260719T170000
DTSTAMP:20260421T173429
CREATED:20260410T102515Z
LAST-MODIFIED:20260410T102515Z
UID:1220-1784455200-1784480400@vespa-club-ruesselsheim.de
SUMMARY:“Fuffi“-Tour des VCR am 19. Juli 2026
DESCRIPTION:Die Mitglieder des VC Rüsselsheim werden rechtzeitig per Mail über die Details dieser Ausfahrt informiert\nAls Ausweichtermin für unsere Fuffi-Tour ist Sonntag\, der 26. Juli 2026 vorgemerkt. \nBei Interesse von Nichtmitgliedern an dieser Veranstaltung\, bitten wir vorab um Kontaktaufnahme mit dem Vorstand.
URL:https://vespa-club-ruesselsheim.de/event/fuffi-tour-des-vcr-am-19-juli-2026/
CATEGORIES:Interne Veranstaltungen
END:VEVENT
BEGIN:VEVENT
DTSTART;TZID=Europe/Berlin:20260731T080000
DTEND;TZID=Europe/Berlin:20260801T170000
DTSTAMP:20260421T173429
CREATED:20260416T123300Z
LAST-MODIFIED:20260416T123300Z
UID:1265-1785484800-1785603600@vespa-club-ruesselsheim.de
SUMMARY:31. Juli - 1. August 2026  /  Vespa-Treffen u. Sommerfest VC Regensburg
DESCRIPTION:Saisoneröffnung / Anrollern 2026 des Vespa-Club Frankfurter Wespen 1960 e.V. – Frankfurter Wespen von 1960
URL:https://vespa-club-ruesselsheim.de/event/31-juli-1-august-2026-vespa-treffen-u-sommerfest-vc-regensburg/
LOCATION:Freizeitinsel\, Inselstraße 1a\, Bad Abbach\, Bayern\, 93007\, Deutschland
CATEGORIES:Externe Veranstaltungen
END:VEVENT
END:VCALENDAR